BEGIN:VCALENDAR
VERSION:2.0
PRODID:-//Troisième Face - Création d&#039;alternatives - ECPv6.15.14//NONSGML v1.0//EN
CALSCALE:GREGORIAN
METHOD:PUBLISH
X-ORIGINAL-URL:https://www.troisiemeface.com
X-WR-CALDESC:Évènements pour Troisième Face - Création d&#039;alternatives
REFRESH-INTERVAL;VALUE=DURATION:PT1H
X-Robots-Tag:noindex
X-PUBLISHED-TTL:PT1H
BEGIN:VTIMEZONE
TZID:Europe/Paris
BEGIN:DAYLIGHT
TZOFFSETFROM:+0100
TZOFFSETTO:+0200
TZNAME:CEST
DTSTART:20240331T010000
END:DAYLIGHT
BEGIN:STANDARD
TZOFFSETFROM:+0200
TZOFFSETTO:+0100
TZNAME:CET
DTSTART:20241027T010000
END:STANDARD
BEGIN:DAYLIGHT
TZOFFSETFROM:+0100
TZOFFSETTO:+0200
TZNAME:CEST
DTSTART:20250330T010000
END:DAYLIGHT
BEGIN:STANDARD
TZOFFSETFROM:+0200
TZOFFSETTO:+0100
TZNAME:CET
DTSTART:20251026T010000
END:STANDARD
BEGIN:DAYLIGHT
TZOFFSETFROM:+0100
TZOFFSETTO:+0200
TZNAME:CEST
DTSTART:20260329T010000
END:DAYLIGHT
BEGIN:STANDARD
TZOFFSETFROM:+0200
TZOFFSETTO:+0100
TZNAME:CET
DTSTART:20261025T010000
END:STANDARD
END:VTIMEZONE
BEGIN:VEVENT
DTSTART;TZID=Europe/Paris:20251001T190000
DTEND;TZID=Europe/Paris:20251002T203000
DTSTAMP:20260423T213534
CREATED:20250927T082109Z
LAST-MODIFIED:20250927T082109Z
UID:43422-1759345200-1759437000@www.troisiemeface.com
SUMMARY:Rencontres Professionnelles Occijazz à Perpignan
DESCRIPTION:Troisième Face sera présent aux 6e rencontres professionnelles du réseau Occijazz. \nCette édition inédite vise à encourager les échanges\, créer des passerelles et favoriser une meilleure connaissance mutuelle entre les professionnel·le·s du jazz issu·e·s d’Occitanie\, de Catalogne et des Baléares. Artistes et structures culturelles y partageront leurs expériences\, leurs cadres d’action et leurs perspectives de développement à l’échelle régionale et transfrontalière. \nLe Duo Reflections participera aux showcases le 1er octobre à 21h \nVenez nous rencontrer !\nContact : +33 6 79 58 31 27
URL:https://www.troisiemeface.com/event/rencontres-professionnelles-occijazz-perpignan/
LOCATION:La Casa Musicale\, Rue Jean Vielledent\, Perpignan\, 66000
CATEGORIES:Showcase
ATTACH;FMTTYPE=image/jpeg:https://www.troisiemeface.com/wp-content/uploads/2025/09/RENCONTRES-PROFESSIONELLES.jpg
END:VEVENT
END:VCALENDAR